BEGIN:VCALENDAR
VERSION:2.0
PRODID:-//The Friends of Itter Park - ECPv6.15.20//NONSGML v1.0//EN
CALSCALE:GREGORIAN
METHOD:PUBLISH
X-WR-CALNAME:The Friends of Itter Park
X-ORIGINAL-URL:https://thefriendsofitterpark.org.uk
X-WR-CALDESC:Events for The Friends of Itter Park
REFRESH-INTERVAL;VALUE=DURATION:PT1H
X-Robots-Tag:noindex
X-PUBLISHED-TTL:PT1H
BEGIN:VTIMEZONE
TZID:UTC
BEGIN:STANDARD
TZOFFSETFROM:+0000
TZOFFSETTO:+0000
TZNAME:UTC
DTSTART:20220101T000000
END:STANDARD
END:VTIMEZONE
BEGIN:VEVENT
DTSTART;TZID=UTC:20231113T190000
DTEND;TZID=UTC:20231113T203000
DTSTAMP:20260423T094255
CREATED:20230422T075239Z
LAST-MODIFIED:20250912T094840Z
UID:1123-1699902000-1699907400@thefriendsofitterpark.org.uk
SUMMARY:Friends of Itter Park Annual General Meeting
DESCRIPTION:Come along to the Friends of Itter Park Monthly Meeting to hear about what is coming up with the group.  All those with an Interest in Itter Park are welcome  \n\n\n\n\n\n\n\nAll those with an interest in Itter Park welcome \n\n\n\ncome and listen to the activities of the group in 2025 and the report of accounts\, as well as the exciting plans for next year.
URL:https://thefriendsofitterpark.org.uk/event/friends-of-itter-park-monthly-meeting/
LOCATION:Itter Park Bowls Pavilion\, Itter Park\, Itter Cresent\, Peterborough\, Cambridgeshire\, PE4 6SW\, United Kingdom
CATEGORIES:Friends of Itter Park Meetings
ORGANIZER;CN="The Friends of Itter Park":MAILTO:officers@thefriendsofitterpark.org.uk
END:VEVENT
END:VCALENDAR