BEGIN:VCALENDAR
VERSION:2.0
PRODID:-//The Friends of Itter Park - ECPv6.15.20//NONSGML v1.0//EN
CALSCALE:GREGORIAN
METHOD:PUBLISH
X-WR-CALNAME:The Friends of Itter Park
X-ORIGINAL-URL:https://thefriendsofitterpark.org.uk
X-WR-CALDESC:Events for The Friends of Itter Park
REFRESH-INTERVAL;VALUE=DURATION:PT1H
X-Robots-Tag:noindex
X-PUBLISHED-TTL:PT1H
BEGIN:VTIMEZONE
TZID:UTC
BEGIN:STANDARD
TZOFFSETFROM:+0000
TZOFFSETTO:+0000
TZNAME:UTC
DTSTART:20220101T000000
END:STANDARD
END:VTIMEZONE
BEGIN:VEVENT
DTSTART;TZID=UTC:20230330T190000
DTEND;TZID=UTC:20230330T203000
DTSTAMP:20260423T230148
CREATED:20230317T192210Z
LAST-MODIFIED:20230321T183910Z
UID:917-1680202800-1680208200@thefriendsofitterpark.org.uk
SUMMARY:Easter Planning
DESCRIPTION:Come along and be part of the final plans to putting our easter event together.
URL:https://thefriendsofitterpark.org.uk/event/easter-planning/
LOCATION:Itter Park Bowls Pavilion\, Itter Park\, Itter Cresent\, Peterborough\, Cambridgeshire\, PE4 6SW\, United Kingdom
CATEGORIES:Family Fun,Friends of Itter Park Meetings
END:VEVENT
END:VCALENDAR